Workbook

Sheet 목차
A1: 0

Sheet 공지사항
E1: 공지사항
A4: Table of Contents | E4: 본 자료와 관련한 공지사항입니다.
A6: NONGHYUP FIANCIAL GROUP
B7: 공지사항
B8: 농협금융 | E8: ◉ 본 자료는 한국채택국제회계기준(K-IFRS)에 의한 재무정보를 바탕으로 작성되었습니다.
B9: 주요경영실적 | E9: ◉ 2012년 3월 2일 설립된 NH농협금융지주, NH농협은행, NH농협생명, NH농협손해보험의 2012년 손익은 2012년 3월 2일부터 2012년 12월 31일까지의 손익입니다.
B10: 개황 Ⅰ | F10: - NH농협증권, NH-Amundi자산운용, NH농협캐피탈, NH농협선물의 2012년 손익은 2012년 1월 1일부터 2012년 12월 31일까지의 손익입니다.
B11: 개황 Ⅱ | E11: ◉ 본 자료의 연결실적은 기업회계기준서가 개정된 경우 개정본에 따라 재작성되었습니다.
B12: 연결BS | E12: ◉ 2014년 6월 27일 자회사로 편입된 우리투자증권, 우리아비바생명보험, NH저축은행은 2014년 5월 31일을
B13: 연결IS | E13: 취득일로 의제하여 2014년 6월 1일 이후 손익이 2014년 연결손익에 반영되었습니다.
B14: 연결손익Ⅰ | E14: ◉ 2014년 12월 31일 NH농협증권과 우리투자증권이 합병한 NH투자증권의 2014년 실적은 존속법인인 우리투자증권 기준으로 작성되었습니다.
B15: 연결손익Ⅱ | E15: 피합병법인인 NH농협증권의 실적은 합병일을 기준으로 우리투자증권의 자본잉여금으로 반영되었습니다.
B16: 수익성 | E16: ◉ 2015년 9월 1일 당사의 손자회사인 NH선물은 당사의 자회사 중 NH농협선물을 흡수합병하였습니다.
B17: 비이자이익 | E17: ◉ 2016년 5월 1일 NH-CA자산운용이 NH-Amundi 자산운용으로 사명을 변경하였습니다.
B18: 관리비 | E18: ◉ 2018년 7월 2일 NH농협리츠운용을 100% 자회사로 설립하였습니다.
B19: 농업지원사업비 | E19: ◉ 2019년 11월 25일 NH벤처투자를 100% 자회사로 설립하였습니다.
B20: 대출채권 | E20: ◉ 본 자료의 주요 시계열 수치 및 지표는 추후 변경될 수 있습니다.
B21: 예수부채
B22: 자본적정성
B23: 자산건전성 Ⅰ
B24: 자산건전성 Ⅱ
B25: 농협은행
B26: 연결BS
B27: 연결IS
B28: 이자이익/NIM
B29: 주요계수
B30: 농협생명
B31: 농협손해
B32: NH투자증권
... B39: 지분도

Sheet 주요경영실적
D1: 주요경영실적
D3: 농협금융 연결(단위 : 억원, 누적, %) | I3: 1Q12 | J3: 2Q12 | K3: 3Q12 | L3: 2012 | M3: 1Q13 | N3: 2Q13 | O3: 3Q13 | P3: 2013 | Q3: 1Q14 | R3: 2Q14 | S3: 3Q14 | T3: 2014 | U3: 1Q15 | V3: 2Q15 | W3: 3Q15 | X3: 2015 | Y3: 1Q16 | Z3: 2Q16 | AA3: 3Q16 | AB3: 2016 | AC3: 1Q17 | AD3: 2Q17 | AE3: 3Q17 | AF3: 2017 | AG3: 1Q18 | AH3: 2Q18 | AI3: 3Q18 | AJ3: 2018 | AK3: 1Q19 | AL3: 2Q19 | AM3: 3Q19 | AN3: 2019 | AO3: 1Q20 | AP3: 2Q20 | AQ3: 3Q20 | AR3: 2020
A4: Table of Contents | E4: 영업수익 | I4: 42667.36 | J4: 121229.71 | K4: 187036.42 | L4: 268332.52 | M4: 108579.01 | N4: 187087.9 | O4: 246463.95 | P4: 306153.5 | Q4: 106788.55 | R4: 195297.61 | S4: 269296.81 | T4: 357267.69 | U4: 141002.6 | V4: 225673.4 | W4: 334862.43 | X4: 402656.21 | Y4: 169325.81 | Z4: 252971.05 | AA4: 349736.1 | AB4: 429627.81 | AC4: 198147.08 | AD4: 271484.35 | AE4: 350550.06 | AF4: 455033.65 | AG4: 174414.9 | AH4: 280002.15 | AI4: 356187.78 | AJ4: 449350.04 | AK4: 198332.94 | AL4: 307278.38 | AM4: 412998.83 | AN4: 478823.9 | AO4: 252108.03 | AP4: 330230.86 | AQ4: 405936.6 | AR4: 509405.46
E5: 영업비용 | I5: 41460.63 | J5: 116877.53 | K5: 179760.14 | L5: 258100.24 | M5: 105435.2 | N5: 183104.13 | O5: 238526.57 | P5: 296862.38 | Q5: 105906.11 | R5: 187891.9 | S5: 258003.21 | T5: 344988.82 | U5: 137982.36 | V5: 217722.84 | W5: 323128.41 | X5: 393291.79 | Y5: 166924.3 | Z5: 253234.41 | AA5: 345372.55 | AB5: 422120.02 | AC5: 193772.18 | AD5: 261684.89 | AE5: 336535.03 | AF5: 437868.71 | AG5: 167640.88 | AH5: 265054.13 | AI5: 336032.78 | AJ5: 426099.75 | AK5: 190124.94 | AL5: 289654.72 | AM5: 388471.36 | AN5: 447812.12 | AO5: 246040.28 | AP5: 313621.09 | AQ5: 378821.54 | AR5: 477166.87
A6: NONGHYUP FIANCIAL GROUP | E6: 영업이익 | I6: 1206.73 | J6: 4352.18 | K6: 7276.28 | L6: 10232.28 | M6: 3143.81 | N6: 3983.77 | O6: 7937.38 | P6: 9291.12 | Q6: 882.44 | R6: 7405.71 | S6: 11293.6 | T6: 12278.87 | U6: 3020.24 | V6: 7950.56 | W6: 11734.025 | X6: 9364.42 | Y6: 2401.51 | Z6: -263.36 | AA6: 4363.5548 | AB6: 7507.79 | AC6: 4374.9 | AD6: 9799.46 | AE6: 14015.03 | AF6: 17164.94 | AG6: 6774.02 | AH6: 14948.011 | AI6: 20155 | AJ6: 23250.29 | AK6: 8208 | AL6: 17623.66 | AM6: 24527.47 | AN6: 31011.78 | AO6: 6067.75 | AP6: 16609.77 | AQ6: 27115.06 | AR6: 32238.59
B7: 공지사항 | E7: 당기순이익 | I7: 639.79 | J7: 2279.28 | K7: 3770.83 | L7: 5128.1 | M7: 1758.15 | N7: 1599.34 | O7: 3091.25 | P7: 3240.04 | Q7: 148.86 | R7: 5392.62 | S7: 7527.97 | T7: 8044.87 | U7: 1754.56 | V7: 5031.4 | W7: 7164.72 | X7: 4870.23 | Y7: 1204.35 | Z7: -1389.56 | AA7: 1822.6 | AB7: 4265.56 | AC7: 2769.37 | AD7: 6198.73 | AE7: 8725.16 | AF7: 10525.02 | AG7: 4631.49 | AH7: 9569.357 | AI7: 12585 | AJ7: 14047.06 | AK7: 5179 | AL7: 11140.17 | AM7: 15389.39 | AN7: 19876.63 | AO7: 3489.01 | AP7: 10470.58 | AQ7: 17284.6 | AR7: 20487.61
B8: 농협금융 | E8: 지배지분당기순이익 | I8: 684.68 | J8: 2170.84 | K8: 3643.16 | L8: 4918.01 | M8: 1769.96 | N8: 1533.62 | O8: 2898.01 | P8: 2929.85 | Q8: 30.33 | R8: 5250.35 | S8: 7030.41 | T8: 7684.88 | U8: 1375.88 | V8: 4369.75 | W8: 6196.67 | X8: 4022.58 | Y8: 894.15 | Z8: -2012.69 | AA8: 986.83 | AB8: 3209.68 | AC8: 2215.78 | AD8: 5126.97 | AE8: 7284.65 | AF8: 8597.84 | AG8: 3900.81 | AH8: 8294.8522 | AI8: 10771.46 | AJ8: 12188.58 | AK8: 4327 | AL8: 9971.25 | AM8: 13936.89 | AN8: 17796 | AO8: 3386.77 | AP8: 9102.38 | AQ8: 14607.64 | AR8: 17358.79
B9: 주요경영실적 | E9: 농업지원사업비 부담전 기준 지배주주지분순이익 | I9: 684.68 | J9: 3488.9382 | K9: 5949.8319 | L9: 8213.2556 | M9: 2628.1921 | N9: 3250.0842 | O9: 5472.7063 | P9: 6362.7784 | Q9: 646.61308 | R9: 6482.9162 | S9: 8887.8438 | T9: 10161.584 | U9: 2028.983 | V9: 5675.5818 | W9: 8155.1062 | X9: 6633.6015 | Y9: 1604.4077 | Z9: -592.17469 | AA9: 3117.603 | AB9: 6050.7106 | AC9: 2884.3397 | AD9: 6464.0893 | AE9: 9290.329 | AF9: 11272.079 | AG9: 4578.3191 | AH9: 9649.8704 | AI9: 12803.987 | AJ9: 14898.617 | AK9: 5051.3708 | AL9: 11419.954 | AM9: 16109.946 | AN9: 20693.408 | AO9: 4136.2921 | AP9: 10599.425 | AQ9: 16854.214 | AR9: 20352.923
B10: 개황 Ⅰ | E10: 자산(조원) | I10: 248.45595 | J10: 246.52642 | K10: 243.03199 | L10: 248.49935 | M10: 252.44747 | N10: 254.07914 | O10: 255.40519 | P10: 254.53498 | Q10: 266.51555 | R10: 310.90431 | S10: 313.08322 | T10: 315.71424 | U10: 316.92264 | V10: 324.61515 | W10: 333.14558 | X10: 339.84118 | Y10: 356.02812 | Z10: 363.19483 | AA10: 367.46541 | AB10: 366.9448 | AC10: 374.13679 | AD10: 381.63224 | AE10: 384.07191 | AF10: 388.7417 | AG10: 394.03369 | AH10: 404.16512 | AI10: 416.66799 | AJ10: 417.00184 | AK10: 424.56944 | AL10: 436.98854 | AM10: 445.62203 | AN10: 427.07286 | AO10: 450.85411 | AP10: 473.84904 | AQ10: 474.77663 | AR10: 483.4607
B11: 개황 Ⅱ | F11: 총자산(AUM 포함)(조원) | I11: 272.87409 | J11: 270.84176 | K11: 268.08521 | L11: 274.26988 | M11: 281.21002 | N11: 287.08402 | O11: 290.4796 | P11: 292.86356 | Q11: 308.50024 | R11: 382.02747 | S11: 390.29555 | T11: 393.35395 | U11: 393.60928 | V11: 409.04395 | W11: 422.59957 | X11: 431.67358 | Y11: 450.75529 | Z11: 463.10535 | AA11: 467.78286 | AB11: 464.41052 | AC11: 470.9499 | AD11: 484.14834 | AE11: 483.72979 | AF11: 490.64821 | AG11: 499.12563 | AH11: 514.28416 | AI11: 548.58047 | AJ11: 549.31597 | AK11: 562.76862 | AL11: 578.92517 | AM11: 588.9795 | AN11: 578.11996 | AO11: 605.19136 | AP11: 631.57929 | AQ11: 633.37827 | AR11: 646.64203
B12: 연결BS | E12: 자본(조원) | I12: 16.854718 | J12: 16.982073 | K12: 17.21003 | L12: 17.315116 | M12: 17.40727 | N12: 17.229853 | O12: 17.743614 | P12: 17.714678 | Q12: 17.148712 | R12: 20.094577 | S12: 20.444792 | T12: 20.284546 | U12: 20.473189 | V12: 20.782299 | W12: 20.937883 | X12: 20.438504 | Y12: 20.375395 | Z12: 20.198889 | AA12: 20.404067 | AB12: 20.368848 | AC12: 20.554434 | AD12: 20.947924 | AE12: 21.068817 | AF12: 21.119173 | AG12: 21.200681 | AH12: 21.835127 | AI12: 22.246576 | AJ12: 22.440563 | AK12: 22.9681 | AL12: 23.733478 | AM12: 24.445997 | AN12: 24.663538 | AO12: 24.497057 | AP12: 25.36636 | AQ12: 25.97943 | AR12: 26.042845
B13: 연결IS | F13: 지배주주지분(조원) | I13: 16.207021 | J13: 16.327171 | K13: 16.558969 | L13: 16.718895 | M13: 16.88505 | N13: 16.660872 | O13: 16.841606 | P13: 16.80795 | Q13: 16.592054 | R13: 17.169913 | S13: 17.48139 | T13: 17.501662 | U13: 17.7 | V13: 18 | W13: 18.1 | X13: 17.6 | Y13: 17.6 | Z13: 17.4 | AA13: 17.6 | AB13: 17.5 | AC13: 17.7 | AD13: 18.1 | AE13: 18.2 | AF13: 18.173603 | AG13: 18.282786 | AH13: 18.864575 | AI13: 19.220809 | AJ13: 19.404175 | AK13: 19.9324 | AL13: 20.646993 | AM13: 21.318981 | AN13: 21.507516 | AO13: 21.39544 | AP13: 22.131497 | AQ13: 22.632009 | AR13: 22.680116
B14: 연결손익Ⅰ | E14: 대출채권(조원) | I14: 151.08183 | J14: 149.07544 | K14: 151.34245 | L14: 152.25641 | M14: 152.71795 | N14: 153.7929 | O14: 153.84345 | P14: 162.60987 | Q14: 162.68087 | R14: 170.50424 | S14: 175.74566 | T14: 181.63276 | U14: 180.39889 | V14: 183.31811 | W14: 188.49584 | X14: 198.02464 | Y14: 207.01312 | Z14: 208.66571 | AA14: 215.70025 | AB14: 221.19728 | AC14: 219.88831 | AD14: 227.52813 | AE14: 228.55147 | AF14: 236.05165 | AG14: 235.8787 | AH14: 240.94297 | AI14: 251.40556 | AJ14: 252.06124 | AK14: 246.14912 | AL14: 254.89766 | AM14: 264.58767 | AN14: 263.53058 | AO14: 267.00201 | AP14: 278.29238 | AQ14: 283.12075 | AR14: 287.88092
B15: 연결손익Ⅱ | E15: 예수부채(조원) | I15: 142.97451 | J15: 142.6378 | K15: 140.03594 | L15: 142.69041 | M15: 143.62735 | N15: 147.11135 | O15: 31.425869 | P15: 145.07881 | Q15: 153.83141 | R15: 157.80369 | S15: 159.52161 | T15: 162.12083 | U15: 165.31133 | V15: 171.77462 | W15: 177.03143 | X15: 180.29497 | Y15: 186.11538 | Z15: 185.33362 | AA15: 194.03336 | AB15: 196.45416 | AC15: 201.19215 | AD15: 205.32354 | AE15: 207.36667 | AF15: 209.32801 | AG15: 216.6062 | AH15: 223.40226 | AI15: 233.84172 | AJ15: 228.8947 | AK15: 237.70716 | AL15: 248.33765 | AM15: 256.85467 | AN15: 241.26406 | AO15: 253.30443 | AP15: 264.51498 | AQ15: 273.22452 | AR15: 278.48037
B16: 수익성 | E16: 총자본비율 | I16: 11.48 | J16: 11.23 | K16: 11.16 | L16: 11.65 | M16: 11.41 | N16: 10.58 | O16: 11.13 | P16: 14.29 | Q16: 13.9 | R16: 14.46 | S16: 13.92 | T16: 14.149979 | U16: 13.74 | V16: 14 | W16: 13.48 | X16: 13.74 | Y16: 13.37 | Z16: 13.17 | AA16: 13.32 | AB16: 13.49 | AC16: 13.41 | AD16: 13.42 | AE16: 13.51 | AF16: 13.468338 | AG16: 13.120661 | AH16: 13.62 | AI16: 13.439459 | AJ16: 13.864735 | AK16: 13.863674 | AL16: 13.953834 | AM16: 14.102659 | AN16: 13.986128 | AO16: 13.803307 | AP16: 13.901928 | AQ16: 15.347937 | AR16: 15.18
B17: 비이자이익 | E17: (Common Equity Tier Ⅰ Ratio)* | F17: 보통주자본비율 | I17: 0 | J17: 0 | K17: 0 | L17: 0 | M17: 0 | N17: 0 | O17: 0 | P17: 10.92 | Q17: 11.12 | R17: 10.46 | S17: 10 | T17: 9.9595035 | U17: 9.99 | V17: 10.21 | W17: 9.67 | X17: 9.61 | Y17: 9.59 | Z17: 9.17 | AA17: 9.31 | AB17: 10.02 | AC17: 10.38 | AD17: 10.41 | AE17: 10.54 | AF17: 10.493497 | AG17: 10.538764 | AH17: 10.84 | AI17: 10.715791 | AJ17: 11.079426 | AK17: 11.223016 | AL17: 11.405343 | AM17: 11.455698 | AN17: 11.253485 | AO17: 11.067932 | AP17: 11.2272 | AQ17: 12.69798 | AR17: 12.55
B18: 관리비 | E18: (TierⅠ ratio)* | F18: 기본자본비율 | I18: 0 | J18: 0 | K18: 0 | L18: 0 | M18: 0 | N18: 0 | O18: 0 | P18: 11.48 | Q18: 11.44 | R18: 12.3 | S18: 11.81 | T18: 11.67 | U18: 11.44 | V18: 11.68 | W18: 11.13 | X18: 11.06 | Y18: 10.81 | Z18: 10.43 | AA18: 10.57 | AB18: 11.24 | AC18: 11.4 | AD18: 11.46 | AE18: 11.55 | AF18: 11.489873 | AG18: 11.325346 | AH18: 11.79 | AI18: 11.664274 | AJ18: 12.047119 | AK18: 12.19804 | AL18: 12.328959 | AM18: 12.514861 | AN18: 12.29573 | AO18: 12.112206 | AP18: 12.265066 | AQ18: 13.819907 | AR18: 13.69
B19: 농업지원사업비 | E19: 고정이하여신비율 | I19: 2.05 | J19: 2.14 | K19: 2.16 | L19: 1.78 | M19: 1.8 | N19: 2.28 | O19: 1.92 | P19: 1.95 | Q19: 1.95 | R19: 1.94 | S19: 1.64 | T19: 1.66 | U19: 1.66 | V19: 1.64 | W19: 1.48 | X19: 2.27 | Y19: 2.15 | Z19: 1.81 | AA19: 1.65 | AB19: 1.38 | AC19: 1.36 | AD19: 1.23 | AE19: 1.13 | AF19: 1.0462553 | AG19: 1.0531488 | AH19: 0.95838671 | AI19: 0.94907684 | AJ19: 0.9071978 | AK19: 0.91216388 | AL19: 0.83983916 | AM19: 0.77989518 | AN19: 0.63340075 | AO19: 0.59973055 | AP19: 0.49283883 | AQ19: 0.45 | AR19: 0.48457026
B20: 대출채권 | E20: 대손충당금적립비율 | I20: 81.4 | J20: 105.69 | K20: 104.84 | L20: 116.23 | M20: 121.3 | N20: 98.76 | O20: 108.07 | P20: 106.09 | Q20: 93.39 | R20: 93.08 | S20: 103.59 | T20: 102.14 | U20: 102.48 | V20: 102.17 | W20: 110.91 | X20: 85.46 | Y20: 82.88 | Z20: 95.13 | AA20: 100.04 | AB20: 113.23 | AC20: 113.56 | AD20: 121.36 | AE20: 131.81 | AF20: 143.71 | AG20: 150.05751 | AH20: 163.79357 | AI20: 163.15631 | AJ20: 170.18434 | AK20: 167.18929 | AL20: 180.58486 | AM20: 190.63903 | AN20: 220.41 | AO20: 229.99498 | AP20: 270.31 | AQ20: 292.55355 | AR20: 279.2
B21: 예수부채 | E21: 대손충당금적립비율(*) | AB21: 59.28 | AC21: 58.37 | AD21: 65.84 | AE21: 71.78 | AF21: 79.71 | AG21: 85.828144 | AH21: 89.45695 | AI21: 89.064294 | AJ21: 97.27407 | AK21: 93.189213 | AL21: 97.961805 | AM21: 100.8688 | AN21: 107.87 | AO21: 110.2609 | AP21: 130.86 | AQ21: 142.47568 | AR21: 140.01
B22: 자본적정성 | E22: CIR | I22: 48.541451 | J22: 52.974293 | K22: 53.158136 | L22: 55.371944 | M22: 56.532065 | N22: 58.370949 | O22: 58.056495 | P22: 57.529487 | Q22: 71.341305 | R22: 56.030732 | S22: 57.929693 | T22: 60.412563 | U22: 64.717669 | V22: 60.363182 | W22: 62.373778 | X22: 61.912349 | Y22: 60.735294 | Z22: 56.891522 | AA22: 58.673169 | AB22: 60.369407 | AC22: 59.805591 | AD22: 56.570334 | AE22: 57.660177 | AF22: 59.99008 | AG22: 56.936531 | AH22: 53.127701 | AI22: 55.035868 | AJ22: 57.556858 | AK22: 53.723858 | AL22: 51.285833 | AM22: 53.566124 | AN22: 55.51703 | AO22: 61.06495 | AP22: 51.189902 | AQ22: 50.76264 | AR22: 54.505133
B23: 자산건전성 Ⅰ | E23: RoA(**) | I23: 0.30900769 | J23: 0.2762862 | K23: 0.2627705 | L23: 0.24951382 | M23: 0.28077232 | N23: 0.1270955 | O23: 0.16316467 | P23: 0.12806825 | Q23: 0.022855365 | R23: 0.38891197 | S23: 0.35063615 | T23: 0.27536736 | U23: 0.22187262 | V23: 0.31536522 | W23: 0.29612454 | X23: 0.14937168 | Y23: 0.13845704 | Z23: -0.078723845 | AA23: 0.068141129 | AB23: 0.1189189 | AC23: 0.2989544 | AD23: 0.33127213 | AE23: 0.30883082 | AF23: 0.27762774 | AG23: 0.47334038 | AH23: 0.48373227 | AI23: 0.41855603 | AJ23: 0.34759448 | AK23: 0.49231718 | AL23: 0.52278367 | AM23: 0.48146015 | AN23: 0.46197761 | AO23: 0.31793168 | AP23: 0.46474771 | AQ23: 0.50469136 | AR23: 0.4434522
B24: 자산건전성 Ⅱ | E24: RoE(**) | I24: 4.738554 | J24: 4.2046973 | K24: 3.9513583 | L24: 3.7409874 | M24: 4.1921599 | N24: 1.9104515 | O24: 2.4580998 | P24: 1.9313836 | Q24: 0.35655086 | R24: 6.398215 | S24: 5.8998387 | T24: 4.7016895 | U24: 3.9898812 | V24: 5.6806588 | W24: 5.3645743 | X24: 2.7411038 | Y24: 2.7376 | Z24: -1.5862758 | AA24: 1.3860534 | AB24: 2.4335896 | AC24: 6.2907783 | AD24: 6.9817813 | AE24: 6.5153146 | AF24: 5.8735743 | AG24: 10.163354 | AH24: 10.378731 | AI24: 9.0043471 | AJ24: 7.4761393 | AK24: 10.532691 | AL24: 11.143222 | AM24: 10.095224 | AN24: 9.6666751 | AO24: 6.5058641 | AP24: 9.6600305 | AQ24: 10.515371 | AR24: 9.283301
B25: 농협은행 | E25: 농업지원사업비부담전 RoA | I25: 0.30900769 | J25: 0.43619518 | K25: 0.42364567 | L25: 0.40998219 | M25: 0.41801269 | N25: 0.26368046 | O25: 0.29924545 | P25: 0.26394171 | Q25: 0.11768833 | R25: 0.47800233 | S25: 0.43797322 | T25: 0.36144769 | U25: 0.30640135 | V25: 0.39913787 | W25: 0.37897143 | X25: 0.23134524 | Y25: 0.22200531 | Z25: 0.0036205716 | AA25: 0.14965178 | AB25: 0.19996087 | AC25: 0.37318344 | AD25: 0.40476785 | AE25: 0.38184687 | AF25: 0.35017981 | AG25: 0.54479987 | AH25: 0.55442249 | AI25: 0.4883196 | AJ25: 0.4168022 | AK25: 0.56358171 | AL25: 0.59314508 | AM25: 0.55182155 | AN25: 0.53167435 | AO25: 0.3886367 | AP25: 0.53367312 | AQ25: 0.5726606 | AR25: 0.51063234
B26: 연결BS | E26: 농업지원사업비부담전 RoE | I26: 4.738554 | J26: 6.6382927 | K26: 6.3704863 | L26: 6.146907 | M26: 6.2412707 | N26: 3.9635451 | O26: 4.5081767 | P26: 3.9804766 | Q26: 1.8359748 | R26: 7.8638917 | S26: 7.3693809 | T26: 6.1714462 | U26: 5.5099408 | V26: 7.1896514 | W26: 6.8654235 | X26: 4.245392 | Y26: 4.389533 | Z26: 0.072954074 | AA26: 3.0440552 | AB26: 4.0920551 | AC26: 7.8527504 | AD26: 8.5307527 | AE26: 8.0557132 | AF26: 7.4085072 | AG26: 11.697701 | AH26: 11.895427 | AI26: 10.505163 | AJ26: 8.9646742 | AK26: 12.057333 | AL26: 12.642987 | AM26: 11.570558 | AN26: 11.125048 | AO26: 7.9527071 | AP26: 11.092682 | AQ26: 11.931527 | AR26: 10.689661
B27: 연결IS | E27: NIM(누적) (농협은행) (***) | I27: 2.19 | J27: 2.29 | K27: 2.27 | L27: 2.26 | M27: 2.15 | N27: 2.14 | O27: 2.13 | P27: 2.12 | Q27: 2.03 | R27: 2.03 | S27: 2.03 | T27: 2 | U27: 2.03 | V27: 2 | W27: 1.95 | X27: 1.94 | Y27: 1.76 | Z27: 1.75 | AA27: 1.73 | AB27: 1.73 | AC27: 1.73 | AD27: 1.76 | AE27: 1.77 | AF27: 1.77 | AG27: 1.82 | AH27: 1.86 | AI27: 1.87 | AJ27: 1.84 | AK27: 1.78 | AL27: 1.77 | AM27: 1.74 | AN27: 1.72 | AO27: 1.7 | AP27: 1.67 | AQ27: 1.67 | AR27: 1.65
B28: 이자이익/NIM | E28: NIM(분기) (농협은행) (***) | I28: 2.19 | J28: 2.3 | K28: 2.25 | L28: 2.23 | M28: 2.15 | N28: 2.13 | O28: 2.1 | P28: 2.08 | Q28: 2.03 | R28: 2.03 | S28: 2.03 | T28: 1.93 | U28: 2.03 | V28: 1.95 | W28: 1.85 | X28: 1.9 | Y28: 1.84 | Z28: 1.75 | AA28: 1.7 | AB28: 1.73 | AC28: 1.73 | AD28: 1.78 | AE28: 1.78 | AF28: 1.84 | AG28: 1.82 | AH28: 1.9 | AI28: 1.9 | AJ28: 1.96 | AK28: 1.78 | AL28: 1.76 | AM28: 1.69 | AN28: 1.52 | AO28: 1.7 | AP28: 1.64 | AQ28: 1.66 | AR28: 1.59
B29: 주요계수 | E29: (*) 대손준비금 차감 기준
B30: 농협생명 | E30: (**) 경영공시 기준
B31: 농협손해 | E31: (***) 카드부문 포함, 그룹 nim과 동일
B32: NH투자증권
B33: NH-Amundi자산운용 | D33: 농협은행 연결(단위 : 억원, 누적, %) | I33: 1Q12 | J33: 2Q12 | K33: 3Q12 | L33: 2012 | M33: 1Q13 | N33: 2Q13 | O33: 3Q13 | P33: 2013 | Q33: 1Q14 | R33: 2Q14 | S33: 3Q14 | T33: 2014 | U33: 1Q15 | V33: 2Q15 | W33: 3Q15 | X33: 2015 | Y33: 1Q16 | Z33: 2Q16 | AA33: 3Q16 | AB33: 2016 | AC33: 1Q17 | AD33: 2Q17 | AE33: 3Q17 | AF33: 2017 | AG33: 1Q18 | AH33: 2Q18 | AI33: 3Q18 | AJ33: 2018 | AK33: 1Q19 | AL33: 2Q19 | AM33: 3Q19 | AN33: 2019 | AO33: 1Q20 | AP33: 2Q20 | AQ33: 3Q20 | AR33: 2020
B34: NH농협캐피탈 | E34: 영업수익 | I34: 13262.31 | J34: 48004.41 | K34: 77012.07 | L34: 112493.84 | M34: 34543.78 | N34: 68123.36 | O34: 91897.84 | P34: 121474.19 | Q34: 27251.12 | R34: 61921.89 | S34: 86218.36 | T34: 118704.75 | U34: 28908.92 | V34: 57404 | W34: 97400.54 | X34: 118752.87 | Y34: 33731.01 | Z34: 57893.7 | AA34: 91166.55 | AB34: 116573.37 | AC34: 41831.8 | AD34: 63316.76 | AE34: 89392.81 | AF34: 128372.62 | AG34: 29424.36 | AH34: 70052.62 | AI34: 93489.11 | AJ34: 123870.77 | AK34: 34115.36 | AL34: 71251.55 | AM34: 108358.73 | AN34: 131533.88 | AO34: 49537.22 | AP34: 75479.34 | AQ34: 100138.89 | AR34: 139124.2
B35: NH저축은행 | E35: 영업비용 | I35: 12025.29 | J35: 43913.61 | K35: 70082.24 | L35: 103475.32 | M35: 32064.31 | N35: 65294.74 | O35: 85768.64 | P35: 115027.75 | Q35: 26813.83 | R35: 59268.35 | S35: 80715.94 | T35: 111871.12 | U35: 26928.84 | V35: 52135.02 | W35: 89601.67 | X35: 113790.72 | Y35: 32568.84 | Z35: 60762.61 | AA35: 90101.88 | AB35: 112915.65 | AC35: 38934.04 | AD35: 56945.61 | AE35: 80056.09 | AF35: 116454.21 | AG35: 24702.28 | AH35: 59370.98 | AI35: 78339.25 | AJ35: 104029.62 | AK35: 28342.75 | AL35: 57974.2 | AM35: 89592.45 | AN35: 107325.66 | AO35: 44286.65 | AP35: 63606.68 | AQ35: 82140.94 | AR35: 117003.81
B36: 기타 | E36: 영업이익(누적) | I36: 1237.02 | J36: 4090.8 | K36: 6929.83 | L36: 9018.52 | M36: 2479.47 | N36: 2828.62 | O36: 6129.2 | P36: 6446.44 | Q36: 437.29 | R36: 2653.54 | S36: 5502.42 | T36: 6833.63 | U36: 1980.08 | V36: 5268.98 | W36: 7798.87 | X36: 4962.15 | Y36: 1162.17 | Z36: -2868.91 | AA36: 1064.67 | AB36: 3657.72 | AC36: 2897.76 | AD36: 6371.15 | AE36: 9336.72 | AF36: 11918.41 | AG36: 4722.08 | AH36: 10681.64 | AI36: 15149.86 | AJ36: 19841.15 | AK36: 5772.61 | AL36: 13277.35 | AM36: 18766.28 | AN36: 24208.22 | AO36: 5250.57 | AP36: 11872.66 | AQ36: 17997.95 | AR36: 22120.39
B37: 현황 | E37: 당기순이익(누적) | I37: 545.53 | J37: 1909.23 | K37: 3341.42 | L37: 3945.55 | M37: 1109.03 | N37: 662.52 | O37: 2205.11 | P37: 1735.59 | Q37: -266.35 | R37: 1202.67 | S37: 2799.17 | T37: 3384.53 | U37: 900.39 | V37: 3008.36 | W37: 4315.62 | X37: 1762.93 | Y37: 321.93 | Z37: -3289.95 | AA37: -617.59 | AB37: 1111.26 | AC37: 1504.66 | AD37: 3600.21 | AE37: 5159.99 | AF37: 6520.73 | AG37: 3175.65 | AH37: 6684.04 | AI37: 9339.35 | AJ37: 12225.69 | AK37: 3662.26 | AL37: 8456.14 | AM37: 11921.6 | AN37: 15170.75 | AO37: 3162 | AP37: 7267.52 | AQ37: 11154.95 | AR37: 13707.17
B38: 주식수 | E38: 농업지원사업비 부담전 기준 지배주주지분순이익(누적) | I38: 855.78 | J38: 3174.878 | K38: 5539.976 | L38: 6970.074 | M38: 1911.608 | N38: 2268.444 | O38: 4612.408 | P38: 4946.13 | Q38: 288.098 | R38: 2311.8342 | S38: 4462.052 | T38: 5602.908 | U38: 1479 | V38: 4164.8861 | W38: 6051 | X38: 4076 | Y38: 920 | Z38: -2094 | AA38: 1176 | AB38: 3502.5298 | AC38: 2053.2928 | AD38: 4697.4756 | AE38: 6805.8885 | AF38: 8715.2613 | AG38: 3703.9068 | AH38: 7740.5535 | AI38: 10924.12 | AJ38: 14338.724 | AK38: 4205.5387 | AL38: 9542.706 | AM38: 13551.449 | AN38: 17343.879 | AO38: 3713.1377 | AP38: 8369.8028 | AQ38: 12808.378 | AR38: 15911.736
B39: 지분도 | E39: 자산(조원) | I39: 202.77889 | J39: 199.9579 | K39: 194.09741 | L39: 194.93045 | M39: 198.21626 | N39: 198.10728 | O39: 197.61554 | P39: 195.34688 | Q39: 203.61671 | R39: 207.06163 | S39: 207.81681 | T39: 211.64899 | U39: 215.11997 | V39: 220.74985 | W39: 225.73989 | X39: 231.92017 | Y39: 241.09855 | Z39: 245.63225 | AA39: 251.43123 | AB39: 250.83734 | AC39: 255.78785 | AD39: 260.01109 | AE39: 264.38142 | AF39: 267.33323 | AG39: 269.58962 | AH39: 276.469 | AI39: 286.41479 | AJ39: 283.25063 | AK39: 289.20257 | AL39: 301.83052 | AM39: 309.55331 | AN39: 296.18436 | AO39: 310.094 | AP39: 330.07251 | AQ39: 332.30255 | AR39: 337.63895
E40: 자본(조원) | I40: 12.633323 | J40: 12.750743 | K40: 12.910477 | L40: 12.994448 | M40: 13.220106 | N40: 13.103544 | O40: 13.566403 | P40: 13.97494 | Q40: 13.635621 | R40: 13.844535 | S40: 14.062977 | T40: 13.963527 | U40: 14.300285 | V40: 14.542726 | W40: 14.641177 | X40: 14.16609 | Y40: 14.226654 | Z40: 13.821122 | AA40: 14.065084 | AB40: 14.083033 | AC40: 14.251588 | AD40: 14.501398 | AE40: 14.585619 | AF40: 14.651395 | AG40: 14.770845 | AH40: 15.291957 | AI40: 15.617301 | AJ40: 15.935387 | AK40: 15.750349 | AL40: 16.281197 | AM40: 16.655392 | AN40: 16.865336 | AO40: 16.3809 | AP40: 16.845767 | AQ40: 17.27274 | AR40: 17.620091
E41: 대출채권(조원) | I41: 145.41956 | J41: 143.36548 | K41: 145.56727 | L41: 146.15671 | M41: 146.34254 | N41: 147.83128 | O41: 147.23022 | P41: 155.10002 | Q41: 155.24341 | R41: 159.74061 | S41: 164.84038 | T41: 170.40928 | U41: 168.52805 | V41: 170.77659 | W41: 175.17746 | X41: 183.14532 | Y41: 191.25791 | Z41: 191.97701 | AA41: 198.08503 | AB41: 203.23254 | AC41: 201.25124 | AD41: 207.84517 | AE41: 208.56392 | AF41: 214.91977 | AG41: 208.73315 | AH41: 218.15907 | AI41: 227.75734 | AJ41: 228.95159 | AK41: 222.54303 | AL41: 230.74693 | AM41: 240.90529 | AN41: 238.66234 | AO41: 242.4583 | AP41: 252.9458 | AQ41: 257.84671 | AR41: 262.27743
...

Sheet 개황Ⅰ
D1: 개황(별도기준)
D3: 자산 (단위 : 억원) | I3: 1Q12 | J3: 2Q12 | K3: 3Q12 | L3: 2012 | M3: 1Q13 | N3: 2Q13 | O3: 3Q13 | P3: 2013 | Q3: 1Q14 | R3: 2Q14 | S3: 3Q14 | T3: 2014 | U3: 1Q15 | V3: 2Q15 | W3: 3Q15 | X3: 2015 | Y3: 1Q16 | Z3: 2Q16 | AA3: 3Q16 | AB3: 2016 | AC3: 1Q17 | AD3: 2Q17 | AE3: 3Q17 | AF3: 2017 | AG3: 1Q18 | AH3: 2Q18 | AI3: 3Q18 | AJ3: 2018 | AK3: 1Q19 | AL3: 2Q19 | AM3: 3Q19 | AN3: 2019 | AO3: 1Q20 | AP3: 2Q20 | AQ3: 3Q20 | AR3: 2020
A4: Table of Contents | D4: 농협금융지주 | I4: 171356.35 | J4: 171286.75 | K4: 171469.19 | L4: 179304.23 | M4: 183718.24 | N4: 185468.77 | O4: 185737.91 | P4: 192130.9 | Q4: 196001.65 | R4: 201630.98 | S4: 202106 | T4: 203454.91 | U4: 207603.48 | V4: 205729.53 | W4: 208464.44 | X4: 209073.29 | Y4: 210611.35 | Z4: 208430.52 | AA4: 210747.78 | AB4: 210143.18 | AC4: 210371.47 | AD4: 208856.37 | AE4: 212798.83 | AF4: 210151.5 | AG4: 214025.21 | AH4: 212854.6 | AI4: 217054.46 | AJ4: 215233.62 | AK4: 220218.4 | AL4: 216537.05 | AM4: 218239.59 | AN4: 212381.6 | AO4: 215798.43 | AP4: 218385 | AQ4: 219082.05 | AR4: 219867.35
D5: 농협은행 | I5: 2017212.8 | J5: 1997091.9 | K5: 1938069.5 | L5: 1947558.2 | M5: 1955122.4 | N5: 1956503.8 | O5: 1949029.6 | P5: 1925340.4 | Q5: 2006192.9 | R5: 2039678.6 | S5: 2046390.4 | T5: 2085765.9 | U5: 2119004 | V5: 2175127.1 | W5: 2226174 | X5: 2287166.4 | Y5: 2378698 | Z5: 2422768.9 | AA5: 2478792.1 | AB5: 2472881.7 | AC5: 2524003.1 | AD5: 2564448.3 | AE5: 2608693.7 | AF5: 2634454.4 | AG5: 2657572.5 | AH5: 2725961 | AI5: 2824385 | AJ5: 2791503.4 | AK5: 2852496.5 | AL5: 2978775.8 | AM5: 3056557.8 | AN5: 2920346 | AO5: 3058583.1 | AP5: 3261054 | AQ5: 3280132.3 | AR5: 3331525.3
A6: NONGHYUP FIANCIAL GROUP | D6: 농협생명 | I6: 383743.18 | J6: 387848.83 | K6: 400837.54 | L6: 422533.02 | M6: 442332.47 | N6: 450169.36 | O6: 461392.68 | P6: 471776.66 | Q6: 481401 | R6: 491554.6 | S6: 503291.35 | T6: 517293.85 | U6: 533961.17 | V6: 544337.77 | W6: 560478.48 | X6: 572190.44 | Y6: 583179.9 | Z6: 593930.9 | AA6: 605239.57 | AB6: 617011.7 | AC6: 617937.5 | AD6: 628493.94 | AE6: 633959.37 | AF6: 637029.94 | AG6: 638761.58 | AH6: 644416.34 | AI6: 645338.59 | AJ6: 646772.69 | AK6: 649298.88 | AL6: 649997.7 | AM6: 652776 | AN6: 648154 | AO6: 650471.95 | AP6: 649210.28 | AQ6: 680659.49 | AR6: 671429.19
B7: 공지사항 | D7: 농협손해 | I7: 21120.26 | J7: 22968 | K7: 27391.81 | L7: 25963.81 | M7: 32094.96 | N7: 34092.95 | O7: 37173.006 | P7: 38070.1 | Q7: 47205.34 | R7: 50091.6 | S7: 52906.52 | T7: 54297.37 | U7: 61724.62 | V7: 63674.71 | W7: 68001.52 | X7: 68330 | Y7: 75385.49 | Z7: 79444.78 | AA7: 82912.77 | AB7: 82554.92 | AC7: 88428.454 | AD7: 94577.251 | AE7: 94310.531 | AF7: 94279.543 | AG7: 98907.064 | AH7: 102739.58 | AI7: 102098.12 | AJ7: 104674.86 | AK7: 106994.53 | AL7: 112544.91 | AM7: 110434.93 | AN7: 106470.04 | AO7: 115603.23 | AP7: 119874.72 | AQ7: 119366.33 | AR7: 113627.25
B8: 농협금융 | D8: 농협증권 | I8: 38598 | J8: 40645 | K8: 47387 | L8: 49474 | M8: 54544 | N8: 63172 | O8: 63841 | P8: 64269 | Q8: 74829 | R8: 79667 | S8: 76060
B9: 주요경영실적 | D9: NH투자증권 | R9: 339926.62 | S9: 343941.78 | T9: 404264.01 | U9: 399354.9 | V9: 408622.6 | W9: 416931 | X9: 404920.72 | Y9: 453610.85 | Z9: 455992.73 | AA9: 421639.05 | AB9: 410219.74 | AC9: 424754.88 | AD9: 435194.6 | AE9: 405791.2 | AF9: 419864.9 | AG9: 441627.09 | AH9: 458900.52 | AI9: 476178.05 | AJ9: 511242.08 | AK9: 518258.09 | AL9: 506995.96 | AM9: 517148 | AN9: 476011 | AO9: 556799 | AP9: 579947.79 | AQ9: 565443.96 | AR9: 606267.81
B10: 개황 Ⅰ | D10: NH-Amundi자산운용 | I10: 530.83106 | J10: 488.61054 | K10: 512.49732 | L10: 535.83436 | M10: 561.22128 | N10: 502.05206 | O10: 527.58325 | P10: 558.88067 | Q10: 585.3778 | R10: 549.68065 | S10: 578.20493 | T10: 622.41095 | U10: 525.64034 | V10: 551.01858 | W10: 577.47666 | X10: 980.15601 | Y10: 914.69131 | Z10: 941.99378 | AA10: 987.47788 | AB10: 1038.1759 | AC10: 928.54165 | AD10: 940.30146 | AE10: 980.33462 | AF10: 1043.5109 | AG10: 957.94446 | AH10: 1010.584 | AI10: 1060.3041 | AJ10: 1121.988 | AK10: 1021.0429 | AL10: 1021.7606 | AM10: 1057.5196 | AN10: 1279.1954 | AO10: 1094.7339 | AP10: 1109.6138 | AQ10: 1164.8991 | AR10: 1254.9709
B11: 개황 Ⅱ | D11: 농협캐피탈 | I11: 13611.045 | J11: 14589.043 | K11: 14565.051 | L11: 15558.111 | M11: 15457.938 | N11: 15900.221 | O11: 16086.592 | P11: 18562.343 | Q11: 18695.237 | R11: 19490.093 | S11: 20217.57 | T11: 20579.799 | U11: 20784.568 | V11: 20667.642 | W11: 21604.554 | X11: 24387.015 | Y11: 27034.041 | Z11: 28774.149 | AA11: 29909.081 | AB11: 31496.903 | AC11: 32691.408 | AD11: 35369.837 | AE11: 39549.863 | AF11: 41252.112 | AG11: 43497.814 | AH11: 45852.637 | AI11: 46748.017 | AJ11: 45542.837 | AK11: 46714.273 | AL11: 47505.545 | AM11: 48083.944 | AN11: 49602.951 | AO11: 55362.993 | AP11: 54817.425 | AQ11: 57509.812 | AR11: 57915.017
B12: 연결BS | D12: 농협선물 | I12: 1843 | J12: 1447 | K12: 2865 | L12: 1744 | M12: 2370 | N12: 3287 | O12: 1348 | P12: 1217 | Q12: 1483 | R12: 1179 | S12: 1650 | T12: 1353 | U12: 1267 | V12: 904
B13: 연결IS | D13: NH저축은행 | R13: 7164.3 | S13: 6816.18 | T13: 7901.33 | U13: 8088.15 | V13: 7901.33 | W13: 7826.74 | X13: 8829.7 | Y13: 8699.03 | Z13: 8600.03 | AA13: 9358.33 | AB13: 9205.32 | AC13: 8949.65 | AD13: 9246.61 | AE13: 10543.31 | AF13: 12228.33 | AG13: 12713.06 | AH13: 12983.45 | AI13: 14654.55 | AJ13: 13926.21 | AK13: 13197.64 | AL13: 15657.97 | AM13: 14632.93 | AN13: 14511.86 | AO13: 15326.21 | AP13: 15172 | AQ13: 15399.79 | AR13: 18353.18
B14: 연결손익Ⅰ | D14: NH농협리츠운용 | AI14: 294 | AJ14: 288 | AK14: 291 | AL14: 286 | AM14: 279.687 | AN14: 299 | AO14: 307 | AP14: 296.79 | AQ14: 297.41 | AR14: 307.8871
B15: 연결손익Ⅱ | D15: NH벤처투자 | AN15: 299.74 | AO15: 297.97199 | AP15: 294.69254 | AQ15: 290.63055 | AR15: 285.84388
B16: 수익성 | D16: 저축은행은 K-GAAP기준
B17: 비이자이익
B18: 관리비 | D18: 부채 (단위 : 억원) | I18: 1Q12 | J18: 2Q12 | K18: 3Q12 | L18: 2012 | M18: 1Q13 | N18: 2Q13 | O18: 3Q13 | P18: 2013 | Q18: 1Q14 | R18: 2Q14 | S18: 3Q14 | T18: 2014 | U18: 1Q15 | V18: 2Q15 | W18: 3Q15 | X18: 2015 | Y18: 1Q16 | Z18: 2Q16 | AA18: 3Q16 | AB18: 2016 | AC18: 1Q17 | AD18: 2Q17 | AE18: 3Q17 | AF18: 2017 | AG18: 1Q18 | AH18: 2Q18 | AI18: 3Q18 | AJ18: 2018 | AK18: 1Q19 | AL18: 2Q19 | AM18: 3Q19 | AN18: 2019 | AO18: 1Q20 | AP18: 2Q20 | AQ18: 3Q20 | AR18: 2020
B19: 농업지원사업비 | D19: 농협금융지주 | I19: 319.84 | J19: 212.82 | K19: 437.19 | L19: 8377.99 | M19: 9296.94 | N19: 11041.15 | O19: 11409.44 | P19: 18010.84 | Q19: 23348.88 | R19: 29220.01 | S19: 30066.85 | T19: 31608.64 | U19: 32836.48 | V19: 31278.8 | W19: 34344.23 | X19: 35592.07 | Y19: 37508.85 | Z19: 35664.33 | AA19: 38320.82 | AB19: 38082.28 | AC19: 38247.32 | AD19: 37065.25 | AE19: 41351.65 | AF19: 39052.11 | AG19: 40473.71 | AH19: 37510.112 | AI19: 42064.08 | AJ19: 40605.56 | AK19: 39576.774 | AL19: 36259.03 | AM19: 36278.67 | AN19: 35923.19 | AO19: 35657.4 | AP19: 38574.66 | AQ19: 39616.21 | AR19: 40766.46
B20: 대출채권 | D20: 농협은행 | I20: 1890285.7 | J20: 1869065.2 | K20: 1808528.7 | L20: 1817040.5 | M20: 1822446.3 | N20: 1825659 | O20: 1813368.2 | P20: 1785729.4 | Q20: 1869994.9 | R20: 1901478 | S20: 1906081.2 | T20: 1946326.7 | U20: 1976355.9 | V20: 2030197.8 | W20: 2080217.4 | X20: 2145817.5 | Y20: 2236849 | Z20: 2285053.2 | AA20: 2338857.6 | AB20: 2332838.9 | AC20: 2382263.2 | AD20: 2420197.4 | AE20: 2463570.7 | AF20: 2488691.9 | AG20: 2510653.7 | AH20: 2573821.3 | AI20: 2669014.2 | AJ20: 2632935.4 | AK20: 2695863.6 | AL20: 2816836.1 | AM20: 2890841.5 | AN20: 2752559 | AO20: 2895624.8 | AP20: 3093542 | AQ20: 3108412 | AR20: 3156353.3
B21: 예수부채 | D21: 농협생명 | I21: 352357.88 | J21: 356451.36 | K21: 368766.74 | L21: 387353.63 | M21: 406823.46 | N21: 414413.28 | O21: 425123.61 | P21: 435307.14 | Q21: 445508.62 | R21: 455550.85 | S21: 466408.3 | T21: 479689.04 | U21: 496848.88 | V21: 506952.56 | W21: 522772.92 | X21: 534173.69 | Y21: 545312.4 | Z21: 555572.8 | AA21: 566486.43 | AB21: 578862.82 | AC21: 579477.36 | AD21: 589646.36 | AE21: 595040.81 | AF21: 598380.94 | AG21: 600183.58 | AH21: 605854.19 | AI21: 607121.87 | AJ21: 610490.37 | AK21: 612691.37 | AL21: 612861.67 | AM21: 615088.67 | AN21: 610678.88 | AO21: 612923.28 | AP21: 610725.91 | AQ21: 625572.5 | AR21: 620787.82
B22: 자본적정성 | D22: 농협손해 | I22: 17864.32 | J22: 19672.38 | K22: 24112.84 | L22: 22008.62 | M22: 28024.65 | N22: 29985.41 | O22: 32929.73 | P22: 33594.05 | Q22: 42942.1 | R22: 45743.29 | S22: 48400.78 | T22: 49590.93 | U22: 57064.11 | V22: 58992.53 | W22: 61782.2 | X22: 61995.51 | Y22: 69053.19 | Z22: 72775.399 | AA22: 76182.27 | AB22: 76276.787 | AC22: 81969.849 | AD22: 87902.552 | AE22: 87692.275 | AF22: 87610.545 | AG22: 92282.497 | AH22: 96051.537 | AI22: 95561.96 | AJ22: 98133.674 | AK22: 100328.61 | AL22: 105772.74 | AM22: 102037.96 | AN22: 97976.103 | AO22: 107010.55 | AP22: 110542.56 | AQ22: 110012.12 | AR22: 104973.58
B23: 자산건전성 Ⅰ | D23: 농협증권 | I23: 32799 | J23: 34737 | K23: 41553 | L23: 42159 | M23: 47132 | N23: 54404 | O23: 55060 | P23: 55447 | Q23: 66005 | R23: 71005 | S23: 67235
B24: 자산건전성 Ⅱ | D24: NH투자증권 | R24: 305384.94 | S24: 308597.2 | T24: 360413.42 | U24: 355067.48 | V24: 363667.76 | W24: 371447.84 | X24: 359632.65 | Y24: 408901.04 | Z24: 410449.85 | AA24: 375851.67 | AB24: 364256.18 | AC24: 378788.84 | AD24: 388269.63 | AE24: 358202.42 | AF24: 371617.62 | AG24: 393816.43 | AH24: 410177.34 | AI24: 426410.65 | AJ24: 461133.33 | AK24: 468246.18 | AL24: 455773.08 | AM24: 465054 | AN24: 423145 | AO24: 504627 | AP24: 525933.45 | AQ24: 509630.37 | AR24: 549783.73
B25: 농협은행 | D25: NH-Amundi자산운용 | I25: 28.06505 | J25: 27.257229 | K25: 30.301954 | L25: 34.293422 | M25: 31.131851 | N25: 35.797977 | O25: 34.54631 | P25: 42.176026 | Q25: 106.41101 | R25: 38.207972 | S25: 34.957651 | T25: 53.534504 | U25: 42.039387 | V25: 40.017365 | W25: 37.856477 | X25: 55.140621 | Y25: 53.526572 | Z25: 49.435072 | AA25: 53.288895 | AB25: 68.277994 | AC25: 72.693503 | AD25: 43.333738 | AE25: 49.394048 | AF25: 77.951247 | AG25: 84.616451 | AH25: 84.822353 | AI25: 97.370327 | AJ25: 121.7717 | AK25: 137.14731 | AL25: 91.327519 | AM25: 82.408666 | AN25: 224.9642 | AO25: 180.00771 | AP25: 141.25618 | AQ25: 152.47044 | AR25: 196.9081
B26: 연결BS | D26: 농협캐피탈 | I26: 12584.485 | J26: 13535.528 | K26: 13497.787 | L26: 14173.573 | M26: 14058.851 | N26: 14422.034 | O26: 14606.925 | P26: 17045.761 | Q26: 17188.852 | R26: 17216.808 | S26: 17917.663 | T26: 18265.491 | U26: 18492.262 | V26: 18285.263 | W26: 19151.743 | X26: 21883.536 | Y26: 24030.43 | Z26: 25665.284 | AA26: 26702.054 | AB26: 28225.024 | AC26: 28467.418 | AD26: 31035.352 | AE26: 35103.667 | AF26: 36739.86 | AG26: 38159.885 | AH26: 40365.196 | AI26: 41112.237 | AJ26: 39820.059 | AK26: 40992.226 | AL26: 41626.332 | AM26: 42071.852 | AN26: 43493.677 | AO26: 49296.843 | AP26: 48569.722 | AQ26: 51105.677 | AR26: 51372.895
B27: 연결IS | D27: 농협선물 | I27: 1229 | J27: 844 | K27: 2264 | L27: 1146 | M27: 1774 | N27: 2691 | O27: 752 | P27: 627 | Q27: 895 | R27: 594 | S27: 1060 | T27: 937 | U27: 857 | V27: 492
B28: 이자이익/NIM | D28: NH저축은행 | R28: 5954.36 | S28: 5590.79 | T28: 6617.52 | U28: 6822.46 | V28: 6617.52 | W28: 6530.78 | X28: 7516.23 | Y28: 7353.69 | Z28: 7226.63 | AA28: 7969.6 | AB28: 7796.57 | AC28: 7510.24 | AD28: 7782.71 | AE28: 9057.63 | AF28: 10724.36 | AG28: 11174.48 | AH28: 11416.98 | AI28: 13059.66 | AJ28: 12283.79 | AK28: 11507.03 | AL28: 13916.85 | AM28: 12861.06 | AN28: 12689.39 | AO28: 13456.27 | AP28: 13250.03 | AQ28: 13431.94 | AR28: 16325.78
B29: 주요계수 | D29: NH농협리츠운용 | AI29: 3 | AJ29: 3 | AK29: 8 | AL29: 8 | AM29: 7 | AN29: 11 | AO29: 13 | AP29: 8.94 | AQ29: 10.19 | AR29: 14.443018
B30: 농협생명 | D30: NH벤처투자 | AN30: 5.16 | AO30: 5.4082532 | AP30: 6.2377775 | AQ30: 6.216594 | AR30: 7.0193362
B31: 농협손해 | D31: 저축은행은 K-GAAP기준
B32: NH투자증권
B33: NH-Amundi자산운용 | D33: 자본 (단위 : 억원) | I33: 1Q12 | J33: 2Q12 | K33: 3Q12 | L33: 2012 | M33: 1Q13 | N33: 2Q13 | O33: 3Q13 | P33: 2013 | Q33: 1Q14 | R33: 2Q14 | S33: 3Q14 | T33: 2014 | U33: 1Q15 | V33: 2Q15 | W33: 3Q15 | X33: 2015 | Y33: 1Q16 | Z33: 2Q16 | AA33: 3Q16 | AB33: 2016 | AC33: 1Q17 | AD33: 2Q17 | AE33: 3Q17 | AF33: 2017 | AG33: 1Q18 | AH33: 2Q18 | AI33: 3Q18 | AJ33: 2018 | AK33: 1Q19 | AL33: 2Q19 | AM33: 3Q19 | AN33: 2019 | AO33: 1Q20 | AP33: 2Q20 | AQ33: 3Q20 | AR33: 2020
B34: NH농협캐피탈 | D34: 농협금융지주 | I34: 171036.51 | J34: 171073.93 | K34: 171032 | L34: 170926.24 | M34: 174421.3 | N34: 174427.62 | O34: 174328.47 | P34: 174120.06 | Q34: 172652.77 | R34: 172410.97 | S34: 172039.15 | T34: 171846.27 | U34: 174767 | V34: 174450.73 | W34: 174120.21 | X34: 173481.22 | Y34: 173102.5 | Z34: 172766.19 | AA34: 172426.96 | AB34: 172060.9 | AC34: 172124.15 | AD34: 171791.12 | AE34: 171447.18 | AF34: 171099.39 | AG34: 173551.5 | AH34: 175344.48 | AI34: 174990.38 | AJ34: 174628.06 | AK34: 180641.62 | AL34: 180278.02 | AM34: 181960.92 | AN34: 176458.41 | AO34: 180141.03 | AP34: 179810.34 | AQ34: 179465.84 | AR34: 179100.89
B35: NH저축은행 | D35: 농협은행 | I35: 126927.08 | J35: 128026.64 | K35: 129540.85 | L35: 130517.76 | M35: 132676.17 | N35: 130844.77 | O35: 135661.44 | P35: 139610.95 | Q35: 136197.99 | R35: 138200.53 | S35: 140309.11 | T35: 139439.2 | U35: 142648.08 | V35: 144929.32 | W35: 145956.64 | X35: 141348.81 | Y35: 141848.97 | Z35: 137715.67 | AA35: 139934.43 | AB35: 140042.74 | AC35: 141739.99 | AD35: 144250.86 | AE35: 145123 | AF35: 145762.52 | AG35: 146918.8 | AH35: 152139.69 | AI35: 155370.84 | AJ35: 158567.98 | AK35: 156632.91 | AL35: 161939.69 | AM35: 165716.28 | AN35: 167787 | AO35: 162958.31 | AP35: 167512 | AQ35: 171719.73 | AR35: 175171.98
B36: 기타 | D36: 농협생명 | I36: 31385.3 | J36: 31397.47 | K36: 32070.8 | L36: 35179.39 | M36: 35509.01 | N36: 35756.08 | O36: 36269.07 | P36: 36469.52 | Q36: 35892.38 | R36: 36003.75 | S36: 36883.05 | T36: 37604.81 | U36: 37112.29 | V36: 37385.21 | W36: 37705.56 | X36: 38016.75 | Y36: 37867.5 | Z36: 38358.1 | AA36: 38753.14 | AB36: 38148.88 | AC36: 38460.14 | AD36: 38847.58 | AE36: 38918.56 | AF36: 38649 | AG36: 38577.997 | AH36: 38562.152 | AI36: 38216.717 | AJ36: 36282.316 | AK36: 36607.513 | AL36: 37136.027 | AM36: 37687.118 | AN36: 37475.117 | AO36: 37548.678 | AP36: 38484.375 | AQ36: 55086.981 | AR36: 50641.37
B37: 현황 | D37: 농협손해 | I37: 3255.94 | J37: 3295.62 | K37: 3278.97 | L37: 3955.19 | M37: 4070.31 | N37: 4107.54 | O37: 4243.276 | P37: 4476.05 | Q37: 4263.24 | R37: 4348.31 | S37: 4505.74 | T37: 4706.44 | U37: 4660.51 | V37: 4682.18 | W37: 6219.32 | X37: 6334.4898 | Y37: 6332.3 | Z37: 6669.3814 | AA37: 6730.5 | AB37: 6278.133 | AC37: 6458.605 | AD37: 6674.699 | AE37: 6618.256 | AF37: 6668.998 | AG37: 6624.567 | AH37: 6688.041 | AI37: 6536.157 | AJ37: 6541.1831 | AK37: 6665.9215 | AL37: 6772.1666 | AM37: 8396.97 | AN37: 8493.9383 | AO37: 8592.6749 | AP37: 9332.1645 | AQ37: 9354.2021 | AR37: 8653.6713
B38: 주식수 | D38: 농협증권 | I38: 5799 | J38: 5908 | K38: 5834 | L38: 7315 | M38: 7412 | N38: 8768 | O38: 8781 | P38: 8822 | Q38: 8824 | R38: 8662 | S38: 8825
B39: 지분도 | D39: NH투자증권 | R39: 34541.68 | S39: 35344.58 | T39: 43850.59 | U39: 44287.42 | V39: 44954.84 | W39: 45483.16 | X39: 45288.07 | Y39: 44709.81 | Z39: 45542.88 | AA39: 45787.38 | AB39: 45963.56 | AC39: 45966.04 | AD39: 46924.97 | AE39: 47588.78 | AF39: 48247.28 | AG39: 47810.65 | AH39: 48723.184 | AI39: 49767.392 | AJ39: 50108.744 | AK39: 50011.915 | AL39: 51222.88 | AM39: 52094 | AN39: 52866 | AO39: 52172 | AP39: 54014.339 | AQ39: 55813.589 | AR39: 56484.08
D40: NH-Amundi자산운용 | I40: 502.76601 | J40: 461.35331 | K40: 482.19536 | L40: 501.54093 | M40: 530.08943 | N40: 466.25409 | O40: 493.03694 | P40: 516.70464 | Q40: 478.96679 | R40: 511.47268 | S40: 543.24728 | T40: 568.87644 | U40: 483.60095 | V40: 511.00122 | W40: 539.62018 | X40: 925.01539 | Y40: 861.16474 | Z40: 892.5587 | AA40: 934.18899 | AB40: 969.89789 | AC40: 855.84815 | AD40: 896.96772 | AE40: 930.94057 | AF40: 965.5597 | AG40: 873.32801 | AH40: 925.76163 | AI40: 962.93377 | AJ40: 1000.2163 | AK40: 883.89556 | AL40: 930.43306 | AM40: 975.11092 | AN40: 1054.2312 | AO40: 914.72621 | AP40: 968.35765 | AQ40: 1012.4286 | AR40: 1058.0628
D41: 농협캐피탈 | I41: 1026.5597 | J41: 1053.515 | K41: 1067.2644 | L41: 1384.5382 | M41: 1399.0863 | N41: 1478.1864 | O41: 1479.6674 | P41: 1516.5821 | Q41: 1506.3851 | R41: 2273.2848 | S41: 2299.9067 | T41: 2314.3087 | U41: 2292.3063 | V41: 2382.379 | W41: 2452.811 | X41: 2503.479 | Y41: 3003.6114 | Z41: 3108.8647 | AA41: 3207.0265 | AB41: 3271.8794 | AC41: 4223.9894 | AD41: 4334.4844 | AE41: 4446.1962 | AF41: 4512.2516 | AG41: 5337.9292 | AH41: 5487.4409 | AI41: 5635.7803 | AJ41: 5722.7786 | AK41: 5722.0467 | AL41: 5879.2132 | AM41: 6012.0916 | AN41: 6109.2744 | AO41: 6066.1498 | AP41: 6247 | AQ41: 6404.1347 | AR41: 6542.1221
...

Sheet 개황Ⅱ
D1: 개황(연결기준)
D3: 자산(단위 : 억원) | I3: 1Q12 | J3: 2Q12 | K3: 3Q12 | L3: 2012(*) | M3: 1Q13 | N3: 2Q13 | O3: 3Q13 | P3: 2013 | Q3: 1Q14 | R3: 2Q14 | S3: 3Q14 | T3: 2014 | U3: 1Q15 | V3: 2Q15 | W3: 3Q15 | X3: 2015 | Y3: 1Q16 | Z3: 2Q16 | AA3: 3Q16 | AB3: 2016 | AC3: 1Q17 | AD3: 2Q17 | AE3: 3Q17 | AF3: 2017 | AG3: 1Q18 | AH3: 2Q18 | AI3: 3Q18 | AJ3: 2018 | AK3: 1Q19 | AL3: 2Q19 | AM3: 3Q19 | AN3: 2019 | AO3: 1Q20 | AP3: 2Q20 | AQ3: 3Q20 | AR3: 2020
A4: Table of Contents | D4: 농협은행 | I4: 2027788.9 | J4: 1999579 | K4: 1940974.1 | L4: 1949304.5 | M4: 1982162.6 | N4: 1981072.8 | O4: 1976155.4 | P4: 1953468.8 | Q4: 2036167.1 | R4: 2070616.3 | S4: 2078168.1 | T4: 2116489.9 | U4: 2151199.7 | V4: 2207498.5 | W4: 2257398.9 | X4: 2319201.7 | Y4: 2410985.5 | Z4: 2456322.5 | AA4: 2514312.3 | AB4: 2508373.4 | AC4: 2557878.5 | AD4: 2600110.9 | AE4: 2643814.2 | AF4: 2673332.3 | AG4: 2695896.2 | AH4: 2764690 | AI4: 2864147.9 | AJ4: 2832506.3 | AK4: 2892025.7 | AL4: 3018305.2 | AM4: 3095533.1 | AN4: 2961843.6 | AO4: 3100940 | AP4: 3300725.1 | AQ4: 3323025.5 | AR4: 3376389.5
E5: (신탁계정) | I5: 108171.4 | J5: 103771.42 | K5: 111928.23 | L5: 117098.29 | M5: 143915.66 | N5: 170069.81 | O5: 181465.83 | P5: 194422.72 | Q5: 198956.23 | R5: 242728.6 | S5: 263227.35 | T5: 257380.27 | U5: 270669.75 | V5: 280094.62 | W5: 289396.76 | X5: 325783.42 | Y5: 335539.22 | Z5: 344689.07 | AA5: 342404.93 | AB5: 328458.57 | AC5: 327228.81 | AD5: 342124.54 | AE5: 324345.54 | AF5: 314828.57 | AG5: 322860.54 | AH5: 355964 | AI5: 386343.79 | AJ5: 380039.76 | AK5: 404834.31 | AL5: 405318.99 | AM5: 403876 | AN5: 410584.99 | AO5: 420955.58 | AP5: 441207.53 | AQ5: 443343.15 | AR5: 449179.38
A6: NONGHYUP FIANCIAL GROUP | D6: 농협생명 | I6: 386010.91 | J6: 390456.21 | K6: 402220.24 | L6: 422748.77 | M6: 443153.66 | N6: 451565.89 | O6: 462071.17 | P6: 472004.97 | Q6: 482730.7 | R6: 446786.72 | S6: 504147.48 | T6: 517356.78 | U6: 535142.75 | V6: 544342.77 | W6: 560772.56 | X6: 572101.27 | Y6: 582845.56 | Z6: 593836.26 | AA6: 605191.67 | AB6: 617570.06 | AC6: 618062.01 | AD6: 628683.08 | AE6: 634145.85 | AF6: 637022.16 | AG6: 638782.2 | AH6: 644447.83 | AI6: 645356.43 | AJ6: 646995.1 | AK6: 649433.5 | AL6: 650130.51 | AM6: 652879.18 | AN6: 648159.21 | AO6: 650483.05 | AP6: 649210.33 | AQ6: 680659.49 | AR6: 671429.38
B7: 공지사항 | D7: 농협손해 | I7: 21120.26 | J7: 22968.44 | K7: 27392.33 | L7: 25964.03 | M7: 32098.2 | N7: 34093.87 | O7: 37173.95 | P7: 38072.87 | Q7: 47297.58 | R7: 50385.41 | S7: 53304.33 | T7: 54310.33 | U7: 61728.328 | V7: 63700.392 | W7: 68050.212 | X7: 68328.664 | Y7: 75407.86 | Z7: 79445.39 | AA7: 82912.77 | AB7: 82554.92 | AC7: 88428.454 | AD7: 94577.251 | AE7: 94310.531 | AF7: 94279.543 | AG7: 98907.064 | AH7: 102739.58 | AI7: 102098.12 | AJ7: 104674.86 | AK7: 106994.53 | AL7: 112544.91 | AM7: 110434.93 | AN7: 106470.04 | AO7: 115603.23 | AP7: 119874.72 | AQ7: 119366.33 | AR7: 113627.25
B8: 농협금융 | D8: 농협증권 | I8: 38899.5 | J8: 40930.88 | K8: 47706.63 | L8: 49780.35 | M8: 54783.2 | N8: 63470.36 | O8: 64192.05 | P8: 65826.66 | Q8: 76535.97 | R8: 81468.33 | S8: 77748.98
B9: 주요경영실적 | E9: (신탁계정) | I9: 24452 | J9: 26676 | K9: 27161 | L9: 17987 | M9: 22666 | N9: 23272 | O9: 33801 | P9: 46381 | Q9: 60874 | R9: 57768 | S9: 65822
B10: 개황 Ⅰ | D10: NH투자증권 | R10: 344352.15 | S10: 348271.79 | T10: 410591.75 | U10: 408266.92 | V10: 417472.14 | W10: 430310.09 | X10: 417063.16 | Y10: 468181.68 | Z10: 474305.15 | AA10: 441079.25 | AB10: 429705.95 | AC10: 445475.39 | AD10: 456444.26 | AE10: 423632.58 | AF10: 438927.39 | AG10: 460694.21 | AH10: 481202.01 | AI10: 499151.13 | AJ10: 534225.72 | AK10: 542234.04 | AL10: 532184.68 | AM10: 544318 | AN10: 500751 | AO10: 580678 | AP10: 606279.23 | AQ10: 589202.57 | AR10: 627384.33
B11: 개황 Ⅱ | E11: (신탁계정, WRAP 등) | R11: 246871.5 | S11: 278094.74 | T11: 350514.24 | U11: 318255.73 | V11: 338771.68 | W11: 334646.52 | X11: 319985.46 | Y11: 325727.08 | Z11: 356663.77 | AA11: 379937.78 | AB11: 373609.12 | AC11: 373595.39 | AD11: 405581.52 | AE11: 414378.89 | AF11: 419066.7 | AG11: 439023.27 | AH11: 413967.51 | AI11: 595198.89 | AJ11: 597976.2 | AK11: 624068.22 | AL11: 620748.02 | AM11: 629171 | AN11: 666948 | AO11: 660099 | AP11: 672227.03 | AQ11: 692674.23 | AR11: 733691.99
B12: 연결BS | D12: NH-Amundi자산운용 | I12: 530.83106 | J12: 488.61054 | K12: 512.49732 | L12: 535.83436 | M12: 561.22128 | N12: 502.05206 | O12: 527.58325 | P12: 558.88067 | Q12: 585.3778 | R12: 549.68065 | S12: 578.20493 | T12: 622.41095 | U12: 525.64034 | V12: 551.01858 | W12: 577.47666 | X12: 980.15601 | Y12: 914.69131 | Z12: 941.99378 | AA12: 987.47788 | AB12: 1038.1759 | AC12: 928.54165 | AD12: 940.30146 | AE12: 980.33462 | AF12: 1043.5109 | AG12: 957.94446 | AH12: 1010.584 | AI12: 1060.3041 | AJ12: 1121.988 | AK12: 1021.0429 | AL12: 1021.7606 | AM12: 1057.5196 | AN12: 1279.1954 | AO12: 1094.7339 | AP12: 1109.6138 | AQ12: 1164.8991 | AR12: 1254.9709
B13: 연결IS | D13: (AUM) | I13: 111558 | J13: 112706 | K13: 111443 | L13: 122620 | M13: 121043.8 | N13: 136706.94 | O13: 135477.21 | P13: 142482.11 | Q13: 160016.71 | R13: 163863.52 | S13: 164979.22 | T13: 168502.65 | U13: 177940.93 | V13: 225421.69 | W13: 270496.57 | X13: 272555.2 | Y13: 286005.32 | Z13: 297752.35 | AA13: 280831.75 | AB13: 272589.58 | AC13: 267306.96 | AD13: 277455 | AE13: 257854.38 | AF13: 285169.8 | AG13: 289035.59 | AH13: 331258.96 | AI13: 337582.15 | AJ13: 345125.28 | AK13: 353089.25 | AL13: 393299.29 | AM13: 400527.78 | AN13: 432938 | AO13: 462318 | AP13: 463868 | AQ13: 449999.07 | AR13: 448942
B14: 연결손익Ⅰ | D14: 농협캐피탈 | I14: 13611.045 | J14: 14589.043 | K14: 14565.051 | L14: 15558.111 | M14: 15457.938 | N14: 15900.221 | O14: 16086.592 | P14: 18562.343 | Q14: 18695.237 | R14: 19490.093 | S14: 20217.57 | T14: 20579.799 | U14: 20784.568 | V14: 20667.642 | W14: 21604.554 | X14: 24387.015 | Y14: 27034.041 | Z14: 28774.149 | AA14: 29909.081 | AB14: 31496.903 | AC14: 32691.408 | AD14: 35369.837 | AE14: 39549.863 | AF14: 41252.112 | AG14: 43497.814 | AH14: 45852.637 | AI14: 46748.017 | AJ14: 45542.837 | AK14: 46714.273 | AL14: 47505.545 | AM14: 48083.944 | AN14: 49602.951 | AO14: 55362.993 | AP14: 54817.425 | AQ14: 57509.812 | AR14: 57915.017
B15: 연결손익Ⅱ | D15: 농협선물 | I15: 1843 | J15: 1447 | K15: 2865 | L15: 1744 | M15: 2370 | N15: 3287 | O15: 1348 | P15: 1217 | Q15: 1483 | R15: 1179 | S15: 1650 | T15: 1353 | U15: 1267 | V15: 904
B16: 수익성 | D16: NH저축은행 | R16: 6970.77 | S16: 6781.57 | T16: 7105.95 | U16: 7931.38 | V16: 7780.69 | W16: 7728.08 | X16: 8728.48 | Y16: 8591.49 | Z16: 8526.9 | AA16: 9279.79 | AB16: 9137.15 | AC16: 8882.79 | AD16: 9183.55 | AE16: 10479.36 | AF16: 12166.06 | AG16: 12643.78 | AH16: 12921.57 | AI16: 14595.79 | AJ16: 13872.08 | AK16: 13172.77 | AL16: 15615.21 | AM16: 14608.29 | AN16: 14485.74 | AO16: 15350.01 | AP16: 15150.76 | AQ16: 15387.3 | AR16: 18212.85
B17: 비이자이익 | D17: NH농협리츠운용 | AI17: 294 | AJ17: 288 | AK17: 291 | AL17: 286 | AM17: 279.687 | AN17: 299 | AO17: 307 | AP17: 296.79 | AQ17: 297.41 | AR17: 307.8871
B18: 관리비 | D18: NH벤처투자 | AN18: 299.74 | AO18: 297.97199 | AP18: 294.69254 | AQ18: 290.63055 | AR18: 285.84388
B19: 농업지원사업비 | D19: 기타 | I19: -5244.9056 | J19: -5195.0131 | K19: -5915.9884 | L19: 19357.915 | M19: -6112.0689 | N19: -9100.7329 | O19: -3502.7853 | P19: -4361.7636 | Q19: 1660.5254 | R19: 87244.686 | S19: 39964.225 | T19: 28732.45 | U19: -17619.926 | V19: -16765.633 | W19: -14986.055 | X19: -12378.675 | Y19: -13679.573 | Z19: -10204.103 | AA19: -9018.1685 | AB19: -10428.559 | AC19: -10979.203 | AD19: -8986.7893 | AE19: -6193.6591 | AF19: -10606.076 | AG19: -11042.388 | AH19: -11213.046 | AI19: -6771.8099 | AJ19: -9208.4494 | AK19: -6192.5159 | AL19: -7708.3428 | AM19: -10974.433 | AN19: -12461.871 | AO19: -11575.937 | AP19: -9268.2946 | AQ19: -39137.703 | AR19: -32200.03
B20: 대출채권 | D20: 연결자산총계 | I20: 2484559.5 | J20: 2465264.2 | K20: 2430319.9 | L20: 2484993.5 | M20: 2524474.7 | N20: 2540791.4 | O20: 2554051.9 | P20: 2545349.8 | Q20: 2665155.5 | R20: 3109043.1 | S20: 3130832.2 | T20: 3157142.4 | U20: 3169226.4 | V20: 3246151.5 | W20: 3331455.8 | X20: 3398411.8 | Y20: 3560281.2 | Z20: 3631948.3 | AA20: 3674654.1 | AB20: 3669448 | AC20: 3741367.9 | AD20: 3816322.4 | AE20: 3840719.1 | AF20: 3887417 | AG20: 3940336.9 | AH20: 4041651.2 | AI20: 4166679.9 | AJ20: 4170018.4 | AK20: 4245694.4 | AL20: 4369885.4 | AM20: 4456220.3 | AN20: 4270728.6 | AO20: 4508541 | AP20: 4738490.4 | AQ20: 4747766.3 | AR20: 4834607
B21: 예수부채 | D21: 연결총자산(**) | I21: 2728740.9 | J21: 2708417.6 | K21: 2680852.1 | L21: 2742698.8 | M21: 2812100.2 | N21: 2870840.2 | O21: 2904796 | P21: 2928635.6 | Q21: 3085002.4 | R21: 3820274.7 | S21: 3902955.5 | T21: 3933539.5 | U21: 3936092.8 | V21: 4090439.5 | W21: 4225995.7 | X21: 4316735.8 | Y21: 4507552.9 | Z21: 4631053.5 | AA21: 4677828.6 | AB21: 4644105.2 | AC21: 4709499 | AD21: 4841483.4 | AE21: 4837297.9 | AF21: 4906482.1 | AG21: 4991256.3 | AH21: 5142841.6 | AI21: 5485804.7 | AJ21: 5493159.7 | AK21: 5627686.2 | AL21: 5789251.7 | AM21: 5889795 | AN21: 5781199.6 | AO21: 6051913.6 | AP21: 6315792.9 | AQ21: 6333782.7 | AR21: 6466420.3
B22: 자본적정성 | D22: (*) (구)농협증권은 '13.3.31 일자 기준임(이하 동일)
B23: 자산건전성 Ⅰ | D23: (**) AUM포함
B24: 자산건전성 Ⅱ
B25: 농협은행 | D25: 부채(단위 : 억원) | I25: 1Q12 | J25: 2Q12 | K25: 3Q12 | L25: 2012(*) | M25: 1Q13 | N25: 2Q13 | O25: 3Q13 | P25: 2013 | Q25: 1Q14 | R25: 2Q14 | S25: 3Q14 | T25: 2014 | U25: 1Q15 | V25: 2Q15 | W25: 3Q15 | X25: 2015 | Y25: 1Q16 | Z25: 2Q16 | AA25: 3Q16 | AB25: 2016 | AC25: 1Q17 | AD25: 2Q17 | AE25: 3Q17 | AF25: 2017 | AG25: 1Q18 | AH25: 2Q18 | AI25: 3Q18 | AJ25: 2018 | AK25: 1Q19 | AL25: 2Q19 | AM25: 3Q19 | AN25: 2019 | AO25: 1Q20 | AP25: 2Q20 | AQ25: 3Q20 | AR25: 2020
B26: 연결BS | D26: 농협은행 | I26: 1901455.6 | J26: 1872071.6 | K26: 1811869.3 | L26: 1819360 | M26: 1849961.5 | N26: 1850037.3 | O26: 1840491.3 | P26: 1813719.6 | Q26: 1899811.1 | R26: 1932171.1 | S26: 1937538.4 | T26: 1976854.8 | U26: 2008196.9 | V26: 2062071.2 | W26: 2110987.1 | X26: 2177540.8 | Y26: 2268718.8 | Z26: 2318111.3 | AA26: 2373661.4 | AB26: 2367542.8 | AC26: 2415362.4 | AD26: 2455096.6 | AE26: 2497958 | AF26: 2526818.3 | AG26: 2548187.8 | AH26: 2611770.4 | AI26: 2707974.9 | AJ26: 2673152.3 | AK26: 2734522.2 | AL26: 2855493 | AM26: 2928979.1 | AN26: 2793190 | AO26: 2937131 | AP26: 3132267.5 | AQ26: 3150298.1 | AR26: 3200188.6
B27: 연결IS | D27: 농협생명 | I27: 354753.96 | J27: 359314.98 | K27: 370311.71 | L27: 387440.44 | M27: 407501.91 | N27: 415755.93 | O27: 425837.76 | P27: 435537.67 | Q27: 446786.72 | R27: 456751.12 | S27: 467209.86 | T27: 479822.2 | U27: 498022.71 | V27: 506962.88 | W27: 523182.05 | X27: 534259.93 | Y27: 545131.04 | Z27: 555592.9 | AA27: 566623.85 | AB27: 579341.49 | AC27: 579520.66 | AD27: 589765.12 | AE27: 595170.57 | AF27: 598354.15 | AG27: 600166.02 | AH27: 605856.79 | AI27: 607107.9 | AJ27: 610661.26 | AK27: 612760.64 | AL27: 612940.04 | AM27: 615137.05 | AN27: 610648.49 | AO27: 612877.52 | AP27: 610714.65 | AQ27: 625561.17 | AR27: 620776.49
B28: 이자이익/NIM | D28: 농협손해 | I28: 17864.32 | J28: 19672.85 | K28: 24113.41 | L28: 22009.29 | M28: 28028 | N28: 29986.35 | O28: 32930.25 | P28: 33597.32 | Q28: 43033.91 | R28: 46037.66 | S28: 48798.17 | T28: 49606.89 | U28: 57029.013 | V28: 59018.046 | W28: 61830.464 | X28: 61997.135 | Y28: 69065.14 | Z28: 72775.73 | AA28: 76182.27 | AB28: 76276.787 | AC28: 81969.849 | AD28: 87902.552 | AE28: 87692.275 | AF28: 87610.545 | AG28: 92282.497 | AH28: 96051.537 | AI28: 95561.96 | AJ28: 98133.674 | AK28: 100328.61 | AL28: 105772.74 | AM28: 102037.96 | AN28: 97976.103 | AO28: 107010.55 | AP28: 110542.56 | AQ28: 110012.12 | AR28: 104973.58
B29: 주요계수 | D29: 농협증권 | I29: 33109.65 | J29: 35041.01 | K29: 41866.3 | L29: 42463.09 | M29: 47358.39 | N29: 54689.02 | O29: 55400.06 | P29: 57000.59 | Q29: 67693.62 | R29: 72789.67 | S29: 68919.23
B30: 농협생명 | D30: NH투자증권 | R30: 310105.76 | S30: 313151.44 | T30: 366810.87 | U30: 364054.17 | V30: 372493.23 | W30: 384266.05 | X30: 371557.72 | Y30: 423336.73 | Z30: 428483.93 | AA30: 395177.56 | AB30: 383218.17 | AC30: 399327.78 | AD30: 409166.52 | AE30: 375703.16 | AF30: 390565.32 | AG30: 412833.67 | AH30: 432126.08 | AI30: 448922.3 | AJ30: 483687.69 | AK30: 491484.27 | AL30: 479992.59 | AM30: 491015 | AN30: 446830 | AO30: 527584 | AP30: 550681.31 | AQ30: 531466.87 | AR30: 569355.6
B31: 농협손해 | D31: NH-Amundi자산운용 | I31: 28.06505 | J31: 27.257229 | K31: 30.301954 | L31: 34.293422 | M31: 31.131851 | N31: 35.797977 | O31: 34.54631 | P31: 42.176026 | Q31: 106.41101 | R31: 38.207972 | S31: 34.957651 | T31: 53.534504 | U31: 42.039387 | V31: 40.017365 | W31: 37.856477 | X31: 55.140621 | Y31: 53.526572 | Z31: 49.435072 | AA31: 53.288895 | AB31: 68.277994 | AC31: 72.693503 | AD31: 43.333738 | AE31: 49.394048 | AF31: 77.951247 | AG31: 84.616451 | AH31: 84.822353 | AI31: 97.370327 | AJ31: 121.7717 | AK31: 137.14731 | AL31: 91.327519 | AM31: 82.408666 | AN31: 224.9642 | AO31: 180.00771 | AP31: 141.25618 | AQ31: 152.47044 | AR31: 196.9081
B32: NH투자증권 | D32: 농협캐피탈 | I32: 12584.485 | J32: 13535.528 | K32: 13497.787 | L32: 14173.573 | M32: 14058.851 | N32: 14422.034 | O32: 14606.925 | P32: 17045.761 | Q32: 17188.852 | R32: 17216.808 | S32: 17917.663 | T32: 18265.491 | U32: 18492.262 | V32: 18285.263 | W32: 19151.743 | X32: 21883.536 | Y32: 24030.43 | Z32: 25665.284 | AA32: 26702.054 | AB32: 28225.024 | AC32: 28467.418 | AD32: 31035.352 | AE32: 35103.667 | AF32: 36739.86 | AG32: 38159.885 | AH32: 40365.196 | AI32: 41112.237 | AJ32: 39820.059 | AK32: 40992.226 | AL32: 41626.332 | AM32: 42071.852 | AN32: 43493.677 | AO32: 49296.843 | AP32: 48569.722 | AQ32: 51105.677 | AR32: 51372.895
B33: NH-Amundi자산운용 | D33: 농협선물 | I33: 1229 | J33: 844 | K33: 2264 | L33: 1146 | M33: 1774 | N33: 2691 | O33: 752 | P33: 627 | Q33: 895 | R33: 594 | S33: 1060 | T33: 937 | U33: 857 | V33: 492
B34: NH농협캐피탈 | D34: NH저축은행 | R34: 5976.49 | S34: 5672.27 | T34: 5984.38 | U34: 6830.5 | V34: 6621.51 | W34: 6536.24 | X34: 7519.28 | Y34: 7355.87 | Z34: 7228.24 | AA34: 7969.43 | AB34: 7797.28 | AC34: 7512.54 | AD34: 7784.37 | AE34: 9062.18 | AF34: 10728.19 | AG34: 12180.05 | AH34: 11423.89 | AI34: 13062.39 | AJ34: 12288.97 | AK34: 11535.89 | AL34: 13943.12 | AM34: 12889.87 | AN34: 12720.08 | AO34: 13484.45 | AP34: 13279.14 | AQ34: 13460.79 | AR34: 16355.54
B35: NH저축은행 | D35: NH농협리츠운용 | AI35: 3 | AJ35: 3 | AK35: 8 | AL35: 8 | AM35: 7 | AN35: 11 | AO35: 13 | AP35: 8.94 | AQ35: 10.19 | AR35: 14.443018
B36: 기타 | D36: NH벤처투자 | AN36: 5.16 | AO36: 5.4082532 | AP36: 6.2377775 | AQ36: 6.216594 | AR36: 7.0193362
B37: 현황 | D37: 연결부채총계 | I37: 2316012.3 | J37: 2295443.5 | K37: 2258219.6 | L37: 2311842.3 | M37: 2350402 | N37: 2368492.9 | O37: 2376615.8 | P37: 2368203 | Q37: 2493668.4 | R37: 2908097.4 | S37: 2926384.3 | T37: 2954296.9 | U37: 2964494.5 | V37: 3038328.5 | W37: 3122077 | X37: 3194026.7 | Y37: 3356527.3 | Z37: 3429959.4 | AA37: 3470613.5 | AB37: 3465759.5 | AC37: 3535823.5 | AD37: 3606843.1 | AE37: 3630030.9 | AF37: 3676225.2 | AG37: 3728330 | AH37: 3823299.9 | AI37: 3944214.1 | AJ37: 3945612.8 | AK37: 4016013.3 | AL37: 4132565.8 | AM37: 4211760.3 | AN37: 4024093.2 | AO37: 4263570.5 | AP37: 4484826.8 | AQ37: 4487972 | AR37: 4574178.5
B38: 주식수
B39: 지분도 | D39: 자본 (단위 : 억원) | I39: 1Q12 | J39: 2Q12 | K39: 3Q12 | L39: 2012(*) | M39: 1Q13 | N39: 2Q13 | O39: 3Q13 | P39: 2013 | Q39: 1Q14 | R39: 2Q14 | S39: 3Q14 | T39: 2014 | U39: 1Q15 | V39: 2Q15 | W39: 3Q15 | X39: 2015 | Y39: 1Q16 | Z39: 2Q16 | AA39: 3Q16 | AB39: 2016 | AC39: 1Q17 | AD39: 2Q17 | AE39: 3Q17 | AF39: 2017 | AG39: 1Q18 | AH39: 2Q18 | AI39: 3Q18 | AJ39: 2018 | AK39: 1Q19 | AL39: 2Q19 | AM39: 3Q19 | AN39: 2019 | AO39: 1Q20 | AP39: 2Q20 | AQ39: 3Q20 | AR39: 2020
D40: 농협은행 | I40: 126333.23 | J40: 127507.43 | K40: 129104.77 | L40: 129944.48 | M40: 132201.06 | N40: 131035.44 | O40: 135664.03 | P40: 139749.4 | Q40: 136356.21 | R40: 138445.35 | S40: 140629.77 | T40: 139635.27 | U40: 143002.85 | V40: 145427.26 | W40: 146411.77 | X40: 141660.9 | Y40: 142266.54 | Z40: 138211.22 | AA40: 140650.84 | AB40: 140830.33 | AC40: 142515.88 | AD40: 145013.98 | AE40: 145856.19 | AF40: 146513.95 | AG40: 147708.45 | AH40: 152919.57 | AI40: 156173.01 | AJ40: 159353.87 | AK40: 157503.49 | AL40: 162811.97 | AM40: 166553.92 | AN40: 168653.36 | AO40: 163809 | AP40: 168457.67 | AQ40: 172727.4 | AR40: 176200.91
D41: 농협생명 | I41: 31256.95 | J41: 31141.23 | K41: 31908.53 | L41: 35308.33 | M41: 35651.75 | N41: 35809.96 | O41: 36233.41 | P41: 36467.3 | Q41: 35943.98 | R41: 36092.11 | S41: 36937.62 | T41: 37534.58 | U41: 37120.04 | V41: 37379.89 | W41: 37590.51 | X41: 37841.34 | Y41: 37714.52 | Z41: 38243.36 | AA41: 38567.82 | AB41: 38228.57 | AC41: 38541.35 | AD41: 38917.96 | AE41: 38975.28 | AF41: 38668.01 | AG41: 38616.172 | AH41: 38591.039 | AI41: 38248.526 | AJ41: 36333.846 | AK41: 36672.858 | AL41: 37190.47 | AM41: 37742.13 | AN41: 37510.719 | AO41: 37605.532 | AP41: 38495.68 | AQ41: 55098.32 | AR41: 50652.888
...

Sheet 연결BS
D1: 농협금융 연결 BS
D3: (단위 : 억원) | I3: 1Q12 | J3: 2Q12 | K3: 3Q12 | L3: 2012 | M3: 1Q13 | N3: 2Q13 | O3: 3Q13 | P3: 2013 | Q3: 1Q14 | R3: 2Q14 | S3: 3Q14 | T3: 2014 | U3: 1Q15 | V3: 2Q15 | W3: 3Q15 | X3: 2015 | Y3: 1Q16 | Z3: 2Q16 | AA3: 3Q16 | AB3: 2016 | AC3: 1Q17 | AD3: 2Q17 | AE3: 3Q17 | AF3: 2017 | AG3: 1Q18 | AH3: 2Q18 | AI3: 3Q18 | AJ3: 2018 | AK3: 1Q19 | AL3: 2Q19 | AM3: 3Q19 | AN3: 2019 | AO3: 1Q20 | AP3: 2Q20 | AQ3: 3Q20 | AR3: 2020
A4: Table of Contents | D4: 자산 | I4: 2484559.5 | J4: 2465264.2 | K4: 2430319.9 | L4: 2484993.5 | M4: 2524474.7 | N4: 2540791.4 | O4: 2554051.9 | P4: 2545349.8 | Q4: 2665155.5 | R4: 3109043.1 | S4: 3130832.2 | T4: 3157142.4 | U4: 3169226.4 | V4: 3246151.5 | W4: 3331455.8 | X4: 3398411.8 | Y4: 3560281.2 | Z4: 3631948.3 | AA4: 3674654.1 | AB4: 3669448 | AC4: 3741367.9 | AD4: 3816322.4 | AE4: 3840719.1 | AF4: 3887417 | AG4: 3940336.9 | AH4: 4041651.2 | AI4: 4166679.9 | AJ4: 4170018.4 | AK4: 4245694.4 | AL4: 4369885.4 | AM4: 4456220.3 | AN4: 4270728.6 | AO4: 4508541 | AP4: 4738490.4 | AQ4: 4747766.3 | AR4: 4834607
E5: 현금및예치금 | I5: 99500.24 | J5: 113816.42 | K5: 101913.97 | L5: 111540.71 | M5: 140686.54 | N5: 133763.27 | O5: 117912.7 | P5: 107354.85 | Q5: 122352.85 | R5: 173429.04 | S5: 148603.5 | T5: 166600.44 | U5: 194899.18 | V5: 176500.83 | W5: 180341.67 | X5: 205291.98 | Y5: 157404.79 | Z5: 166180.55 | AA5: 172337.75 | AB5: 143685.55 | AC5: 183223.88 | AD5: 165258.5 | AE5: 161908.09 | AF5: 137160.39 | AG5: 110022.56 | AH5: 152951.26 | AI5: 152839.49 | AJ5: 127774.91 | AK5: 172434.73 | AL5: 160354.89 | AM5: 189135.35 | AN5: 108740.08 | AO5: 104832.65 | AP5: 176735.16 | AQ5: 128725.72 | AR5: 172540.21
A6: NONGHYUP FIANCIAL GROUP | E6: 단기매매금융자산 | I6: 57534.59 | J6: 50515.88 | K6: 62828.53 | L6: 86688.18 | M6: 108666.49 | N6: 93243.15 | O6: 108645.35 | P6: 106049.74 | Q6: 137906.03 | R6: 334749.8 | S6: 342597.39 | T6: 359362.07 | U6: 371133.43 | V6: 376404.79 | W6: 367532.65 | X6: 353373.18 | Y6: 352694.68 | Z6: 330033.8 | AA6: 325861.08 | AB6: 325904.2 | AC6: 329935.48 | AD6: 342218.36 | AE6: 317723.5 | AF6: 312324.89
B7: 공지사항 | E7: 당기손익인식지정금융자산 | I7: 10389.46 | J7: 10144.48 | K7: 10283.84 | L7: 10431.71 | M7: 9439.74 | N7: 9349.91 | O7: 10035.03 | P7: 10150.18 | Q7: 11583.95 | R7: 22472.84 | S7: 22758.77 | T7: 22984.94 | U7: 19144.64 | V7: 16684.13 | W7: 15644.034 | X7: 17530.55 | Y7: 18899.34 | Z7: 20460.45 | AA7: 14256.93 | AB7: 12552.48 | AC7: 10895.88 | AD7: 9971.64 | AE7: 11061.76 | AF7: 12012.73
B8: 농협금융 | E8: 파생상품자산 | I8: 12694.13 | J8: 15522.43 | K8: 16129.91 | L8: 15239.28 | M8: 13820.77 | N8: 13568.73 | O8: 13418.17 | P8: 10751.45 | Q8: 8706.72 | R8: 16964.53 | S8: 14350.44 | T8: 13427.85 | U8: 14936.76 | V8: 13928.57 | W8: 21891.518 | X8: 14836.12 | Y8: 21092.21 | Z8: 20781.44 | AA8: 24599.44 | AB8: 17410.73 | AC8: 21524.33 | AD8: 14836.59 | AE8: 15350.57 | AF8: 24323.55 | AG8: 17259.77 | AH8: 16090.837 | AI8: 14891.98 | AJ8: 13685.37 | AK8: 16794.11 | AL8: 22835.27 | AM8: 23293.27 | AN8: 18109.32 | AO8: 27325.98 | AP8: 19019.8 | AQ8: 18188.32 | AR8: 27913.21
B9: 주요경영실적 | E9: 매도가능금융자산 | I9: 285773.57 | J9: 261667.41 | K9: 230310.39 | L9: 259504.77 | M9: 290977.43 | N9: 348555.54 | O9: 323141.12 | P9: 291878.4 | Q9: 340252.91 | R9: 362485.58 | S9: 324951.87 | T9: 300124.7 | U9: 306016.91 | V9: 315600.15 | W9: 331111.13 | X9: 330125.11 | Y9: 402427.56 | Z9: 414474.54 | AA9: 361764.05 | AB9: 365084.57 | AC9: 386301.57 | AD9: 412003.51 | AE9: 447568.44 | AF9: 428897.71
B10: 개황 Ⅰ | E10: 만기보유금융자산 | I10: 359069.33 | J10: 365028.52 | K10: 340640.57 | L10: 328047.91 | M10: 306974.4 | N10: 303088.89 | O10: 321158.57 | P10: 315879.5 | Q10: 311167.17 | R10: 321862.93 | S10: 299811.55 | T10: 303927.1 | U10: 307999.56 | V10: 344551.76 | W10: 368827.63 | X10: 369754.86 | Y10: 378635.26 | Z10: 408814.8 | AA10: 433352.46 | AB10: 452895.14 | AC10: 448079.24 | AD10: 454093.87 | AE10: 465262.76 | AF10: 467675.05
B11: 개황 Ⅱ | E11: 당기손익-공정가치측정 금융자산 | AG11: 485271.44 | AH11: 515671.22 | AI11: 559720.45 | AJ11: 585609.08 | AK11: 595462.62 | AL11: 614859.93 | AM11: 577070.81 | AN11: 538895.19 | AO11: 564003.88 | AP11: 607281.79 | AQ11: 631059.66 | AR11: 623969.82
B12: 연결BS | E12: 당기손익-공정가치지정 금융자산 | AG12: 5884.44 | AH12: 244.67874 | AI12: 81.12
